BEGIN:VCALENDAR
VERSION:2.0
PRODID:-//wp-events-plugin.com//7.2.3.1//EN
TZID:America/New_York
X-WR-TIMEZONE:America/New_York
BEGIN:VEVENT
UID:292@ithacaswing.org
DTSTART;TZID=America/New_York:20260304T200000
DTEND;TZID=America/New_York:20260304T210000
DTSTAMP:20260309T232112Z
URL:https://ithacaswing.org/calendar/beyond-basics-class-5/
SUMMARY:Beyond Basics Class
DESCRIPTION:Swing dance\, beyond basics:  8 count Lindy moves with Cindy O
 verstreet\n\n1st of a 3 week series for $30\, or individual class for $15
CATEGORIES:ISDN Classes
LOCATION:TreeHouse Studio\, 119 S Cayuga St\, Ithaca \, NY\, 14850\, United
  States
X-APPLE-STRUCTURED-LOCATION;VALUE=URI;X-ADDRESS=119 S Cayuga St\, Ithaca \,
  NY\, 14850\, United States;X-APPLE-RADIUS=100;X-TITLE=TreeHouse Studio:ge
 o:0,0
END:VEVENT
BEGIN:VTIMEZONE
TZID:America/New_York
X-LIC-LOCATION:America/New_York
BEGIN:STANDARD
DTSTART:20251102T010000
TZOFFSETFROM:-0400
TZOFFSETTO:-0500
TZNAME:EST
END:STANDARD
END:VTIMEZONE
END:VCALENDAR