BEGIN:VCALENDAR
VERSION:2.0
PRODID:-//wp-events-plugin.com//7.2.3.1//EN
TZID:America/New_York
X-WR-TIMEZONE:America/New_York
BEGIN:VEVENT
UID:262@ithacaswing.org
DTSTART;TZID=America/New_York:20251217T190000
DTEND;TZID=America/New_York:20251217T213000
DTSTAMP:20251120T122601Z
URL:https://ithacaswing.org/calendar/diana-leighs-holiday-shindig-dance/
SUMMARY:Diana Leigh's Holiday Shindig Dance
DESCRIPTION:The Diana Leigh Quartet is back with their 9th annual Holiday S
 hindig\, with special guests!\n\nDancing\, snacks\, and a bar!\n\nAt the T
 reeHouse Studio\, 3rd Floor\, 119 S Cayuga St in Ithaca.  Weds Dec 17th\,
  7-9:30 pm.\n\n$12 advance\, $15 at the door. Get advance tickets here:\nh
 ttps://www.ticketleap.events/tickets/dianaleighmusic/diana-leigh-holiday-2
 025\nVolunteers get discounts! email isdnvolunteers@gmail.com to sign up!\
 n&nbsp\;
CATEGORIES:ISDN Event
LOCATION:TreeHouse Studio\, 119 S Cayuga St\, Ithaca \, NY\, 14850\, United
  States
X-APPLE-STRUCTURED-LOCATION;VALUE=URI;X-ADDRESS=119 S Cayuga St\, Ithaca \,
  NY\, 14850\, United States;X-APPLE-RADIUS=100;X-TITLE=TreeHouse Studio:ge
 o:0,0
END:VEVENT
BEGIN:VTIMEZONE
TZID:America/New_York
X-LIC-LOCATION:America/New_York
BEGIN:STANDARD
DTSTART:20251102T010000
TZOFFSETFROM:-0400
TZOFFSETTO:-0500
TZNAME:EST
END:STANDARD
END:VTIMEZONE
END:VCALENDAR