BEGIN:VCALENDAR
VERSION:2.0
PRODID:-//wp-events-plugin.com//7.2.3.1//EN
TZID:America/New_York
X-WR-TIMEZONE:America/New_York
BEGIN:VEVENT
UID:283@ithacaswing.org
DTSTART;TZID=America/New_York:20260530T120000
DTEND;TZID=America/New_York:20260530T180000
DTSTAMP:20260309T231059Z
URL:https://ithacaswing.org/calendar/free-dance-lessons-ithaca-festival-2/
SUMMARY:Free Dance & Lessons @ Ithaca Festival
DESCRIPTION:Join us for FREE dancing with lessons and demos during the Itha
 ca Festival!  We'll be at Library Place on Cayuga Street (corner of Court
 \, across from Dewitt Park).\n\nDetails coming soon!\n\nInformation table 
 on the street outside
CATEGORIES:ISDN Event
LOCATION:Library Place\, 105 W Court St\, Ithaca\, NY\, 14850\, United Stat
 es
X-APPLE-STRUCTURED-LOCATION;VALUE=URI;X-ADDRESS=105 W Court St\, Ithaca\, N
 Y\, 14850\, United States;X-APPLE-RADIUS=100;X-TITLE=Library Place:geo:0,0
END:VEVENT
BEGIN:VTIMEZONE
TZID:America/New_York
X-LIC-LOCATION:America/New_York
BEGIN:DAYLIGHT
DTSTART:20260308T030000
TZOFFSETFROM:-0500
TZOFFSETTO:-0400
TZNAME:EDT
END:DAYLIGHT
END:VTIMEZONE
END:VCALENDAR