BEGIN:VCALENDAR
VERSION:2.0
PRODID:-//wp-events-plugin.com//7.2.3.1//EN
TZID:America/New_York
X-WR-TIMEZONE:America/New_York
BEGIN:VEVENT
UID:267@ithacaswing.org
DTSTART;TZID=America/New_York:20260208T150000
DTEND;TZID=America/New_York:20260208T170000
DTSTAMP:20251221T235017Z
URL:https://ithacaswing.org/calendar/jazz-upstairs/
SUMMARY:Jazz Upstairs
DESCRIPTION:A new once-per-month jazz and swing event with live music. Join
  us on a Sunday afternoon for your listening and dancing pleasure!\n\nFeb 
 8th: Firefly Trio w/Diana Leigh\n\nAt the TreeHouse Studio and Lounge\, 3r
 d Floor\, 119 S Cayuga St. in Ithaca.\n\n$10 or pay what you can (PWYC).\n
 \n&nbsp\;
CATEGORIES:Live Music
LOCATION:TreeHouse Studio\, 119 S Cayuga St\, Ithaca \, NY\, 14850\, United
  States
X-APPLE-STRUCTURED-LOCATION;VALUE=URI;X-ADDRESS=119 S Cayuga St\, Ithaca \,
  NY\, 14850\, United States;X-APPLE-RADIUS=100;X-TITLE=TreeHouse Studio:ge
 o:0,0
END:VEVENT
BEGIN:VTIMEZONE
TZID:America/New_York
X-LIC-LOCATION:America/New_York
BEGIN:STANDARD
DTSTART:20251102T010000
TZOFFSETFROM:-0400
TZOFFSETTO:-0500
TZNAME:EST
END:STANDARD
END:VTIMEZONE
END:VCALENDAR