BEGIN:VCALENDAR
VERSION:2.0
PRODID:-//wp-events-plugin.com//7.2.3.1//EN
TZID:America/New_York
X-WR-TIMEZONE:America/New_York
BEGIN:VEVENT
UID:281@ithacaswing.org
DTSTART;TZID=America/New_York:20260325T190000
DTEND;TZID=America/New_York:20260325T213000
DTSTAMP:20260309T230026Z
URL:https://ithacaswing.org/calendar/live-band-dance-the-pelotones/
SUMMARY:Live Band Dance: The Pelotones
DESCRIPTION:Join us for a live band dance with The Pelotones! Wayne Gottlie
 b\, Alex Specker\, Harry Aceto\, and Mike Wellen. Playing covers and origi
 nals\, of swing\, blues\, and just pure fun!\n\nAt the TreeHouse Studio\, 
 3rd Floor\, 119 S Cayuga St in Ithaca.  $15 cover.\nVolunteers get discou
 nted admission. Send email to isdnvolunteers@gmail.com to sign up!
CATEGORIES:ISDN Event
LOCATION:TreeHouse Studio\, 119 S Cayuga St\, Ithaca \, NY\, 14850\, United
  States
X-APPLE-STRUCTURED-LOCATION;VALUE=URI;X-ADDRESS=119 S Cayuga St\, Ithaca \,
  NY\, 14850\, United States;X-APPLE-RADIUS=100;X-TITLE=TreeHouse Studio:ge
 o:0,0
END:VEVENT
BEGIN:VTIMEZONE
TZID:America/New_York
X-LIC-LOCATION:America/New_York
BEGIN:DAYLIGHT
DTSTART:20260308T030000
TZOFFSETFROM:-0500
TZOFFSETTO:-0400
TZNAME:EDT
END:DAYLIGHT
END:VTIMEZONE
END:VCALENDAR