BEGIN:VCALENDAR
VERSION:2.0
PRODID:-//wp-events-plugin.com//7.2.3.1//EN
TZID:America/New_York
X-WR-TIMEZONE:America/New_York
BEGIN:VEVENT
UID:1@ithacaswing.org
DTSTART;TZID=America/New_York:20250315T120000
DTEND;TZID=America/New_York:20250315T223000
DTSTAMP:20250314T121600Z
URL:https://ithacaswing.org/calendar/mango-moriah-workshop-2/
SUMMARY:Mango & Moriah Workshop
DESCRIPTION:Join us for afternoon classes and an evening dance with fabulou
 s WCS teachers Mango and Moriah! Private lessons available (see below).\n\
 nSCHEDULE:12 pm: Open Dancing\n\n\n1 pm #1: West Coast Magic: "It's the Wa
 y that You Do It"Why do All Star dancers catch your eye? What makes it loo
 k so good? They will reveal some of their secrets. Pre-Req: WC foundation 
 four moves* or equivalent dance experience.\n\n2 pm #2: West Coast Magic a
 t PlayPut that magic into action\, with patterns that play with the music 
 and your partner. Pre-Req: WC foundation four* or equivalent partner dance
  experience. Recommended: Class #1\n\n3:15-4:15 pm #3: WC Swing &amp\; Blu
 es Groove MagicLearn how your dancing can express different musical groove
 s. Pre-Req: WC foundation four or equivalent partner dance experience. Rec
 ommended: Classes #1 &amp\; 2\n\n4:15 - 6:45 pm Dinner Break\n\n6:45 pm #4
 : WC Moves to the Swing &amp\; Blues GrooveDance moves that build on that 
 groove magic! Pre-Req: WC foundation four* plus single turn variations. Re
 commended: Class #3 or equivalent dance knowledge\n\n7:45 - 10:30-ish pm: 
 West Coast Social Dance with DJ Mango\n\n* Foundation four: push break (su
 gar push)\, left &amp\; right side pass and whip\n\nPRICING:ALL-In Pass: $
 50 advance\, $60 doorIndividual classes: $20 each (door only)Evening dance
 : $8 (door only)Venmo: @swingdance-ithacaPaypal: @ithacaswingChecks payabl
 e to ISDN\, postmark by 3/8 to PO Box 6585\, Ithaca\, NY\, 14851\n\nPrivat
 e lessons available! Contact Kate at kbevington5@gmail.com\nMangesh (Mango
 ) Urankar was introduced to West Coast Swing when he moved to Syracuse in 
 2015 for grad school. He has since attended many National WCS events and c
 ompetes in the Advanced division. He derives a lot of inspiration from oth
 er dance styles. When he isn't on the dance floor\, he can be found DJing 
 at local CNY dances.\nMoriah Edwards is an accomplished West Coast Swing d
 ancer who competes at the All-Star level. She has been active in the commu
 nity since 2017. She has a background in hula\, with a smattering of balle
 t\, ballroom\, and other partner dances. Moriah recently moved to Syracuse
  from the Boston area\, and is excited to share her dance knowledge with o
 ur local community.
LOCATION:Lansing Community Center\, 29 Auburn Rd\, Lansing\, NY\, 14882\, U
 nited States
X-APPLE-STRUCTURED-LOCATION;VALUE=URI;X-ADDRESS=29 Auburn Rd\, Lansing\, NY
 \, 14882\, United States;X-APPLE-RADIUS=100;X-TITLE=Lansing Community Cent
 er:geo:0,0
END:VEVENT
BEGIN:VTIMEZONE
TZID:America/New_York
X-LIC-LOCATION:America/New_York
BEGIN:DAYLIGHT
DTSTART:20250309T030000
TZOFFSETFROM:-0500
TZOFFSETTO:-0400
TZNAME:EDT
END:DAYLIGHT
END:VTIMEZONE
END:VCALENDAR